BEGIN:VCALENDAR
VERSION:2.0
PRODID:-//Hillside Christian Church - ECPv6.15.17.1//NONSGML v1.0//EN
CALSCALE:GREGORIAN
METHOD:PUBLISH
X-ORIGINAL-URL:https://www.youarehillside.com
X-WR-CALDESC:Events for Hillside Christian Church
REFRESH-INTERVAL;VALUE=DURATION:PT1H
X-Robots-Tag:noindex
X-PUBLISHED-TTL:PT1H
BEGIN:VTIMEZONE
TZID:America/Vancouver
BEGIN:DAYLIGHT
TZOFFSETFROM:-0800
TZOFFSETTO:-0700
TZNAME:PDT
DTSTART:20250309T100000
END:DAYLIGHT
BEGIN:STANDARD
TZOFFSETFROM:-0700
TZOFFSETTO:-0800
TZNAME:PST
DTSTART:20251102T090000
END:STANDARD
BEGIN:DAYLIGHT
TZOFFSETFROM:-0800
TZOFFSETTO:-0700
TZNAME:PDT
DTSTART:20260308T100000
END:DAYLIGHT
BEGIN:STANDARD
TZOFFSETFROM:-0700
TZOFFSETTO:-0800
TZNAME:PST
DTSTART:20261101T090000
END:STANDARD
BEGIN:DAYLIGHT
TZOFFSETFROM:-0800
TZOFFSETTO:-0700
TZNAME:PDT
DTSTART:20270314T100000
END:DAYLIGHT
BEGIN:STANDARD
TZOFFSETFROM:-0700
TZOFFSETTO:-0800
TZNAME:PST
DTSTART:20271107T090000
END:STANDARD
END:VTIMEZONE
BEGIN:VEVENT
DTSTART;TZID=America/Vancouver:20260528T200000
DTEND;TZID=America/Vancouver:20260528T220000
DTSTAMP:20260420T192437
CREATED:20190829T185131Z
LAST-MODIFIED:20190829T185131Z
UID:10015306-1779998400-1780005600@www.youarehillside.com
SUMMARY:Men's Ball Hockey
DESCRIPTION:If you’re looking for a great work out and fellowship\, check out our men’s ball hockey night. This event is hosted by Hillside and is open to the community. \nPlease note that proof of COVID-19 vaccine is required to participate in this event and PHO for COVID will be followed. \n 
URL:https://www.youarehillside.com/event/mens-ball-hockey/2026-05-28/
END:VEVENT
BEGIN:VEVENT
DTSTART;TZID=America/Vancouver:20260528T200000
DTEND;TZID=America/Vancouver:20260528T220000
DTSTAMP:20260420T192437
CREATED:20190829T185131Z
LAST-MODIFIED:20190829T185131Z
UID:10004061-1779998400-1780005600@www.youarehillside.com
SUMMARY:Men's Ball Hockey
DESCRIPTION:If you’re looking for a great work out and fellowship\, check out our men’s ball hockey night. This event is hosted by Hillside and is open to the community. \nPlease note that proof of COVID-19 vaccine is required to participate in this event and PHO for COVID will be followed. \n 
URL:https://www.youarehillside.com/event/mens-ball-hockey/2026-05-28/
END:VEVENT
BEGIN:VEVENT
DTSTART;TZID=America/Vancouver:20260528T200000
DTEND;TZID=America/Vancouver:20260528T220000
DTSTAMP:20260420T192437
CREATED:20190829T185131Z
LAST-MODIFIED:20190829T185131Z
UID:10011778-1779998400-1780005600@www.youarehillside.com
SUMMARY:Men's Ball Hockey
DESCRIPTION:If you’re looking for a great work out and fellowship\, check out our men’s ball hockey night. This event is hosted by Hillside and is open to the community. \nPlease note that proof of COVID-19 vaccine is required to participate in this event and PHO for COVID will be followed. \n 
URL:https://www.youarehillside.com/event/mens-ball-hockey/2026-05-28/
END:VEVENT
BEGIN:VEVENT
DTSTART;TZID=America/Vancouver:20260528T200000
DTEND;TZID=America/Vancouver:20260528T220000
DTSTAMP:20260420T192437
CREATED:20190829T185131Z
LAST-MODIFIED:20190829T185131Z
UID:10004715-1779998400-1780005600@www.youarehillside.com
SUMMARY:Men's Ball Hockey
DESCRIPTION:If you’re looking for a great work out and fellowship\, check out our men’s ball hockey night. This event is hosted by Hillside and is open to the community. \nPlease note that proof of COVID-19 vaccine is required to participate in this event and PHO for COVID will be followed. \n 
URL:https://www.youarehillside.com/event/mens-ball-hockey/2026-05-28/
END:VEVENT
BEGIN:VEVENT
DTSTART;TZID=America/Vancouver:20260528T200000
DTEND;TZID=America/Vancouver:20260528T220000
DTSTAMP:20260420T192437
CREATED:20190829T185131Z
LAST-MODIFIED:20190829T185131Z
UID:10005353-1779998400-1780005600@www.youarehillside.com
SUMMARY:Men's Ball Hockey
DESCRIPTION:If you’re looking for a great work out and fellowship\, check out our men’s ball hockey night. This event is hosted by Hillside and is open to the community. \nPlease note that proof of COVID-19 vaccine is required to participate in this event and PHO for COVID will be followed. \n 
URL:https://www.youarehillside.com/event/mens-ball-hockey/2026-05-28/
END:VEVENT
BEGIN:VEVENT
DTSTART;TZID=America/Vancouver:20260528T200000
DTEND;TZID=America/Vancouver:20260528T220000
DTSTAMP:20260420T192437
CREATED:20190829T185131Z
LAST-MODIFIED:20190829T185131Z
UID:10003391-1779998400-1780005600@www.youarehillside.com
SUMMARY:Men's Ball Hockey
DESCRIPTION:If you’re looking for a great work out and fellowship\, check out our men’s ball hockey night. This event is hosted by Hillside and is open to the community. \nPlease note that proof of COVID-19 vaccine is required to participate in this event and PHO for COVID will be followed. \n 
URL:https://www.youarehillside.com/event/mens-ball-hockey/2026-05-28/
END:VEVENT
BEGIN:VEVENT
DTSTART;TZID=America/Vancouver:20260528T200000
DTEND;TZID=America/Vancouver:20260528T220000
DTSTAMP:20260420T192437
CREATED:20190829T185131Z
LAST-MODIFIED:20190829T185131Z
UID:10012485-1779998400-1780005600@www.youarehillside.com
SUMMARY:Men's Ball Hockey
DESCRIPTION:If you’re looking for a great work out and fellowship\, check out our men’s ball hockey night. This event is hosted by Hillside and is open to the community. \nPlease note that proof of COVID-19 vaccine is required to participate in this event and PHO for COVID will be followed. \n 
URL:https://www.youarehillside.com/event/mens-ball-hockey/2026-05-28/
END:VEVENT
BEGIN:VEVENT
DTSTART;TZID=America/Vancouver:20260528T200000
DTEND;TZID=America/Vancouver:20260528T220000
DTSTAMP:20260420T192437
CREATED:20190829T185131Z
LAST-MODIFIED:20190829T185131Z
UID:10008641-1779998400-1780005600@www.youarehillside.com
SUMMARY:Men's Ball Hockey
DESCRIPTION:If you’re looking for a great work out and fellowship\, check out our men’s ball hockey night. This event is hosted by Hillside and is open to the community. \nPlease note that proof of COVID-19 vaccine is required to participate in this event and PHO for COVID will be followed. \n 
URL:https://www.youarehillside.com/event/mens-ball-hockey/2026-05-28/
END:VEVENT
BEGIN:VEVENT
DTSTART;TZID=America/Vancouver:20260528T200000
DTEND;TZID=America/Vancouver:20260528T220000
DTSTAMP:20260420T192437
CREATED:20190829T185131Z
LAST-MODIFIED:20190829T185131Z
UID:10010756-1779998400-1780005600@www.youarehillside.com
SUMMARY:Men's Ball Hockey
DESCRIPTION:If you’re looking for a great work out and fellowship\, check out our men’s ball hockey night. This event is hosted by Hillside and is open to the community. \nPlease note that proof of COVID-19 vaccine is required to participate in this event and PHO for COVID will be followed. \n 
URL:https://www.youarehillside.com/event/mens-ball-hockey/2026-05-28/
END:VEVENT
BEGIN:VEVENT
DTSTART;TZID=America/Vancouver:20260528T200000
DTEND;TZID=America/Vancouver:20260528T220000
DTSTAMP:20260420T192437
CREATED:20190829T185131Z
LAST-MODIFIED:20190829T185131Z
UID:10014600-1779998400-1780005600@www.youarehillside.com
SUMMARY:Men's Ball Hockey
DESCRIPTION:If you’re looking for a great work out and fellowship\, check out our men’s ball hockey night. This event is hosted by Hillside and is open to the community. \nPlease note that proof of COVID-19 vaccine is required to participate in this event and PHO for COVID will be followed. \n 
URL:https://www.youarehillside.com/event/mens-ball-hockey/2026-05-28/
END:VEVENT
BEGIN:VEVENT
DTSTART;TZID=America/Vancouver:20260528T200000
DTEND;TZID=America/Vancouver:20260528T220000
DTSTAMP:20260420T192437
CREATED:20190829T185131Z
LAST-MODIFIED:20190829T185131Z
UID:10007231-1779998400-1780005600@www.youarehillside.com
SUMMARY:Men's Ball Hockey
DESCRIPTION:If you’re looking for a great work out and fellowship\, check out our men’s ball hockey night. This event is hosted by Hillside and is open to the community. \nPlease note that proof of COVID-19 vaccine is required to participate in this event and PHO for COVID will be followed. \n 
URL:https://www.youarehillside.com/event/mens-ball-hockey/2026-05-28/
END:VEVENT
BEGIN:VEVENT
DTSTART;TZID=America/Vancouver:20260528T200000
DTEND;TZID=America/Vancouver:20260528T220000
DTSTAMP:20260420T192437
CREATED:20190829T185131Z
LAST-MODIFIED:20190829T185131Z
UID:10003895-1779998400-1780005600@www.youarehillside.com
SUMMARY:Men's Ball Hockey
DESCRIPTION:If you’re looking for a great work out and fellowship\, check out our men’s ball hockey night. This event is hosted by Hillside and is open to the community. \nPlease note that proof of COVID-19 vaccine is required to participate in this event and PHO for COVID will be followed. \n 
URL:https://www.youarehillside.com/event/mens-ball-hockey/2026-05-28/
END:VEVENT
BEGIN:VEVENT
DTSTART;TZID=America/Vancouver:20260528T200000
DTEND;TZID=America/Vancouver:20260528T220000
DTSTAMP:20260420T192437
CREATED:20190829T185131Z
LAST-MODIFIED:20190829T185131Z
UID:10012172-1779998400-1780005600@www.youarehillside.com
SUMMARY:Men's Ball Hockey
DESCRIPTION:If you’re looking for a great work out and fellowship\, check out our men’s ball hockey night. This event is hosted by Hillside and is open to the community. \nPlease note that proof of COVID-19 vaccine is required to participate in this event and PHO for COVID will be followed. \n 
URL:https://www.youarehillside.com/event/mens-ball-hockey/2026-05-28/
END:VEVENT
BEGIN:VEVENT
DTSTART;TZID=America/Vancouver:20260528T200000
DTEND;TZID=America/Vancouver:20260528T220000
DTSTAMP:20260420T192437
CREATED:20190829T185131Z
LAST-MODIFIED:20190829T185131Z
UID:10004553-1779998400-1780005600@www.youarehillside.com
SUMMARY:Men's Ball Hockey
DESCRIPTION:If you’re looking for a great work out and fellowship\, check out our men’s ball hockey night. This event is hosted by Hillside and is open to the community. \nPlease note that proof of COVID-19 vaccine is required to participate in this event and PHO for COVID will be followed. \n 
URL:https://www.youarehillside.com/event/mens-ball-hockey/2026-05-28/
END:VEVENT
BEGIN:VEVENT
DTSTART;TZID=America/Vancouver:20260528T200000
DTEND;TZID=America/Vancouver:20260528T220000
DTSTAMP:20260420T192437
CREATED:20190829T185131Z
LAST-MODIFIED:20190829T185131Z
UID:10005195-1779998400-1780005600@www.youarehillside.com
SUMMARY:Men's Ball Hockey
DESCRIPTION:If you’re looking for a great work out and fellowship\, check out our men’s ball hockey night. This event is hosted by Hillside and is open to the community. \nPlease note that proof of COVID-19 vaccine is required to participate in this event and PHO for COVID will be followed. \n 
URL:https://www.youarehillside.com/event/mens-ball-hockey/2026-05-28/
END:VEVENT
BEGIN:VEVENT
DTSTART;TZID=America/Vancouver:20260528T200000
DTEND;TZID=America/Vancouver:20260528T220000
DTSTAMP:20260420T192437
CREATED:20190829T185131Z
LAST-MODIFIED:20190829T185131Z
UID:10013895-1779998400-1780005600@www.youarehillside.com
SUMMARY:Men's Ball Hockey
DESCRIPTION:If you’re looking for a great work out and fellowship\, check out our men’s ball hockey night. This event is hosted by Hillside and is open to the community. \nPlease note that proof of COVID-19 vaccine is required to participate in this event and PHO for COVID will be followed. \n 
URL:https://www.youarehillside.com/event/mens-ball-hockey/2026-05-28/
END:VEVENT
BEGIN:VEVENT
DTSTART;TZID=America/Vancouver:20260528T200000
DTEND;TZID=America/Vancouver:20260528T220000
DTSTAMP:20260420T192437
CREATED:20190829T185131Z
LAST-MODIFIED:20190829T185131Z
UID:10003221-1779998400-1780005600@www.youarehillside.com
SUMMARY:Men's Ball Hockey
DESCRIPTION:If you’re looking for a great work out and fellowship\, check out our men’s ball hockey night. This event is hosted by Hillside and is open to the community. \nPlease note that proof of COVID-19 vaccine is required to participate in this event and PHO for COVID will be followed. \n 
URL:https://www.youarehillside.com/event/mens-ball-hockey/2026-05-28/
END:VEVENT
BEGIN:VEVENT
DTSTART;TZID=America/Vancouver:20260528T200000
DTEND;TZID=America/Vancouver:20260528T220000
DTSTAMP:20260420T192437
CREATED:20190829T185131Z
LAST-MODIFIED:20190829T185131Z
UID:10011461-1779998400-1780005600@www.youarehillside.com
SUMMARY:Men's Ball Hockey
DESCRIPTION:If you’re looking for a great work out and fellowship\, check out our men’s ball hockey night. This event is hosted by Hillside and is open to the community. \nPlease note that proof of COVID-19 vaccine is required to participate in this event and PHO for COVID will be followed. \n 
URL:https://www.youarehillside.com/event/mens-ball-hockey/2026-05-28/
END:VEVENT
BEGIN:VEVENT
DTSTART;TZID=America/Vancouver:20260528T200000
DTEND;TZID=America/Vancouver:20260528T220000
DTSTAMP:20260420T192437
CREATED:20190829T185131Z
LAST-MODIFIED:20190829T185131Z
UID:10007544-1779998400-1780005600@www.youarehillside.com
SUMMARY:Men's Ball Hockey
DESCRIPTION:If you’re looking for a great work out and fellowship\, check out our men’s ball hockey night. This event is hosted by Hillside and is open to the community. \nPlease note that proof of COVID-19 vaccine is required to participate in this event and PHO for COVID will be followed. \n 
URL:https://www.youarehillside.com/event/mens-ball-hockey/2026-05-28/
END:VEVENT
BEGIN:VEVENT
DTSTART;TZID=America/Vancouver:20260528T200000
DTEND;TZID=America/Vancouver:20260528T220000
DTSTAMP:20260420T192437
CREATED:20190829T185131Z
LAST-MODIFIED:20190829T185131Z
UID:10007936-1779998400-1780005600@www.youarehillside.com
SUMMARY:Men's Ball Hockey
DESCRIPTION:If you’re looking for a great work out and fellowship\, check out our men’s ball hockey night. This event is hosted by Hillside and is open to the community. \nPlease note that proof of COVID-19 vaccine is required to participate in this event and PHO for COVID will be followed. \n 
URL:https://www.youarehillside.com/event/mens-ball-hockey/2026-05-28/
END:VEVENT
BEGIN:VEVENT
DTSTART;TZID=America/Vancouver:20260528T200000
DTEND;TZID=America/Vancouver:20260528T220000
DTSTAMP:20260420T192437
CREATED:20190829T185131Z
LAST-MODIFIED:20190829T185131Z
UID:10015698-1779998400-1780005600@www.youarehillside.com
SUMMARY:Men's Ball Hockey
DESCRIPTION:If you’re looking for a great work out and fellowship\, check out our men’s ball hockey night. This event is hosted by Hillside and is open to the community. \nPlease note that proof of COVID-19 vaccine is required to participate in this event and PHO for COVID will be followed. \n 
URL:https://www.youarehillside.com/event/mens-ball-hockey/2026-05-28/
END:VEVENT
BEGIN:VEVENT
DTSTART;TZID=America/Vancouver:20260528T200000
DTEND;TZID=America/Vancouver:20260528T220000
DTSTAMP:20260420T192437
CREATED:20190829T185131Z
LAST-MODIFIED:20190829T185131Z
UID:10009659-1779998400-1780005600@www.youarehillside.com
SUMMARY:Men's Ball Hockey
DESCRIPTION:If you’re looking for a great work out and fellowship\, check out our men’s ball hockey night. This event is hosted by Hillside and is open to the community. \nPlease note that proof of COVID-19 vaccine is required to participate in this event and PHO for COVID will be followed. \n 
URL:https://www.youarehillside.com/event/mens-ball-hockey/2026-05-28/
END:VEVENT
BEGIN:VEVENT
DTSTART;TZID=America/Vancouver:20260528T200000
DTEND;TZID=America/Vancouver:20260528T220000
DTSTAMP:20260420T192437
CREATED:20190829T185131Z
LAST-MODIFIED:20190829T185131Z
UID:10011069-1779998400-1780005600@www.youarehillside.com
SUMMARY:Men's Ball Hockey
DESCRIPTION:If you’re looking for a great work out and fellowship\, check out our men’s ball hockey night. This event is hosted by Hillside and is open to the community. \nPlease note that proof of COVID-19 vaccine is required to participate in this event and PHO for COVID will be followed. \n 
URL:https://www.youarehillside.com/event/mens-ball-hockey/2026-05-28/
END:VEVENT
BEGIN:VEVENT
DTSTART;TZID=America/Vancouver:20260528T200000
DTEND;TZID=America/Vancouver:20260528T220000
DTSTAMP:20260420T192437
CREATED:20190829T185131Z
LAST-MODIFIED:20190829T185131Z
UID:10003728-1779998400-1780005600@www.youarehillside.com
SUMMARY:Men's Ball Hockey
DESCRIPTION:If you’re looking for a great work out and fellowship\, check out our men’s ball hockey night. This event is hosted by Hillside and is open to the community. \nPlease note that proof of COVID-19 vaccine is required to participate in this event and PHO for COVID will be followed. \n 
URL:https://www.youarehillside.com/event/mens-ball-hockey/2026-05-28/
END:VEVENT
BEGIN:VEVENT
DTSTART;TZID=America/Vancouver:20260528T200000
DTEND;TZID=America/Vancouver:20260528T220000
DTSTAMP:20260420T192437
CREATED:20190829T185131Z
LAST-MODIFIED:20190829T185131Z
UID:10014993-1779998400-1780005600@www.youarehillside.com
SUMMARY:Men's Ball Hockey
DESCRIPTION:If you’re looking for a great work out and fellowship\, check out our men’s ball hockey night. This event is hosted by Hillside and is open to the community. \nPlease note that proof of COVID-19 vaccine is required to participate in this event and PHO for COVID will be followed. \n 
URL:https://www.youarehillside.com/event/mens-ball-hockey/2026-05-28/
END:VEVENT
BEGIN:VEVENT
DTSTART;TZID=America/Vancouver:20260528T200000
DTEND;TZID=America/Vancouver:20260528T220000
DTSTAMP:20260420T192437
CREATED:20190829T185131Z
LAST-MODIFIED:20190829T185131Z
UID:10004390-1779998400-1780005600@www.youarehillside.com
SUMMARY:Men's Ball Hockey
DESCRIPTION:If you’re looking for a great work out and fellowship\, check out our men’s ball hockey night. This event is hosted by Hillside and is open to the community. \nPlease note that proof of COVID-19 vaccine is required to participate in this event and PHO for COVID will be followed. \n 
URL:https://www.youarehillside.com/event/mens-ball-hockey/2026-05-28/
END:VEVENT
BEGIN:VEVENT
DTSTART;TZID=America/Vancouver:20260528T200000
DTEND;TZID=America/Vancouver:20260528T220000
DTSTAMP:20260420T192437
CREATED:20190829T185131Z
LAST-MODIFIED:20190829T185131Z
UID:10005036-1779998400-1780005600@www.youarehillside.com
SUMMARY:Men's Ball Hockey
DESCRIPTION:If you’re looking for a great work out and fellowship\, check out our men’s ball hockey night. This event is hosted by Hillside and is open to the community. \nPlease note that proof of COVID-19 vaccine is required to participate in this event and PHO for COVID will be followed. \n 
URL:https://www.youarehillside.com/event/mens-ball-hockey/2026-05-28/
END:VEVENT
BEGIN:VEVENT
DTSTART;TZID=America/Vancouver:20260528T200000
DTEND;TZID=America/Vancouver:20260528T220000
DTSTAMP:20260420T192437
CREATED:20190829T185131Z
LAST-MODIFIED:20190829T185131Z
UID:10009346-1779998400-1780005600@www.youarehillside.com
SUMMARY:Men's Ball Hockey
DESCRIPTION:If you’re looking for a great work out and fellowship\, check out our men’s ball hockey night. This event is hosted by Hillside and is open to the community. \nPlease note that proof of COVID-19 vaccine is required to participate in this event and PHO for COVID will be followed. \n 
URL:https://www.youarehillside.com/event/mens-ball-hockey/2026-05-28/
END:VEVENT
BEGIN:VEVENT
DTSTART;TZID=America/Vancouver:20260528T200000
DTEND;TZID=America/Vancouver:20260528T220000
DTSTAMP:20260420T192437
CREATED:20190829T185131Z
LAST-MODIFIED:20190829T185131Z
UID:10010051-1779998400-1780005600@www.youarehillside.com
SUMMARY:Men's Ball Hockey
DESCRIPTION:If you’re looking for a great work out and fellowship\, check out our men’s ball hockey night. This event is hosted by Hillside and is open to the community. \nPlease note that proof of COVID-19 vaccine is required to participate in this event and PHO for COVID will be followed. \n 
URL:https://www.youarehillside.com/event/mens-ball-hockey/2026-05-28/
END:VEVENT
BEGIN:VEVENT
DTSTART;TZID=America/Vancouver:20260528T200000
DTEND;TZID=America/Vancouver:20260528T220000
DTSTAMP:20260420T192437
CREATED:20190829T185131Z
LAST-MODIFIED:20190829T185131Z
UID:10006076-1779998400-1780005600@www.youarehillside.com
SUMMARY:Men's Ball Hockey
DESCRIPTION:If you’re looking for a great work out and fellowship\, check out our men’s ball hockey night. This event is hosted by Hillside and is open to the community. \nPlease note that proof of COVID-19 vaccine is required to participate in this event and PHO for COVID will be followed. \n 
URL:https://www.youarehillside.com/event/mens-ball-hockey/2026-05-28/
END:VEVENT
END:VCALENDAR