BEGIN:VCALENDAR
VERSION:2.0
PRODID:-//Hillside Christian Church - ECPv6.15.17.1//NONSGML v1.0//EN
CALSCALE:GREGORIAN
METHOD:PUBLISH
X-ORIGINAL-URL:https://www.youarehillside.com
X-WR-CALDESC:Events for Hillside Christian Church
REFRESH-INTERVAL;VALUE=DURATION:PT1H
X-Robots-Tag:noindex
X-PUBLISHED-TTL:PT1H
BEGIN:VTIMEZONE
TZID:America/Vancouver
BEGIN:DAYLIGHT
TZOFFSETFROM:-0800
TZOFFSETTO:-0700
TZNAME:PDT
DTSTART:20250309T100000
END:DAYLIGHT
BEGIN:STANDARD
TZOFFSETFROM:-0700
TZOFFSETTO:-0800
TZNAME:PST
DTSTART:20251102T090000
END:STANDARD
BEGIN:DAYLIGHT
TZOFFSETFROM:-0800
TZOFFSETTO:-0700
TZNAME:PDT
DTSTART:20260308T100000
END:DAYLIGHT
BEGIN:STANDARD
TZOFFSETFROM:-0700
TZOFFSETTO:-0800
TZNAME:PST
DTSTART:20261101T090000
END:STANDARD
BEGIN:DAYLIGHT
TZOFFSETFROM:-0800
TZOFFSETTO:-0700
TZNAME:PDT
DTSTART:20270314T100000
END:DAYLIGHT
BEGIN:STANDARD
TZOFFSETFROM:-0700
TZOFFSETTO:-0800
TZNAME:PST
DTSTART:20271107T090000
END:STANDARD
END:VTIMEZONE
BEGIN:VEVENT
DTSTART;TZID=America/Vancouver:20260521T200000
DTEND;TZID=America/Vancouver:20260521T220000
DTSTAMP:20260421T012842
CREATED:20190829T185131Z
LAST-MODIFIED:20190829T185131Z
UID:10005035-1779393600-1779400800@www.youarehillside.com
SUMMARY:Men's Ball Hockey
DESCRIPTION:If you’re looking for a great work out and fellowship\, check out our men’s ball hockey night. This event is hosted by Hillside and is open to the community. \nPlease note that proof of COVID-19 vaccine is required to participate in this event and PHO for COVID will be followed. \n 
URL:https://www.youarehillside.com/event/mens-ball-hockey/2026-05-21/
END:VEVENT
BEGIN:VEVENT
DTSTART;TZID=America/Vancouver:20260521T200000
DTEND;TZID=America/Vancouver:20260521T220000
DTSTAMP:20260421T012842
CREATED:20190829T185131Z
LAST-MODIFIED:20190829T185131Z
UID:10009345-1779393600-1779400800@www.youarehillside.com
SUMMARY:Men's Ball Hockey
DESCRIPTION:If you’re looking for a great work out and fellowship\, check out our men’s ball hockey night. This event is hosted by Hillside and is open to the community. \nPlease note that proof of COVID-19 vaccine is required to participate in this event and PHO for COVID will be followed. \n 
URL:https://www.youarehillside.com/event/mens-ball-hockey/2026-05-21/
END:VEVENT
BEGIN:VEVENT
DTSTART;TZID=America/Vancouver:20260521T200000
DTEND;TZID=America/Vancouver:20260521T220000
DTSTAMP:20260421T012842
CREATED:20190829T185131Z
LAST-MODIFIED:20190829T185131Z
UID:10010050-1779393600-1779400800@www.youarehillside.com
SUMMARY:Men's Ball Hockey
DESCRIPTION:If you’re looking for a great work out and fellowship\, check out our men’s ball hockey night. This event is hosted by Hillside and is open to the community. \nPlease note that proof of COVID-19 vaccine is required to participate in this event and PHO for COVID will be followed. \n 
URL:https://www.youarehillside.com/event/mens-ball-hockey/2026-05-21/
END:VEVENT
BEGIN:VEVENT
DTSTART;TZID=America/Vancouver:20260521T200000
DTEND;TZID=America/Vancouver:20260521T220000
DTSTAMP:20260421T012842
CREATED:20190829T185131Z
LAST-MODIFIED:20190829T185131Z
UID:10006075-1779393600-1779400800@www.youarehillside.com
SUMMARY:Men's Ball Hockey
DESCRIPTION:If you’re looking for a great work out and fellowship\, check out our men’s ball hockey night. This event is hosted by Hillside and is open to the community. \nPlease note that proof of COVID-19 vaccine is required to participate in this event and PHO for COVID will be followed. \n 
URL:https://www.youarehillside.com/event/mens-ball-hockey/2026-05-21/
END:VEVENT
BEGIN:VEVENT
DTSTART;TZID=America/Vancouver:20260521T200000
DTEND;TZID=America/Vancouver:20260521T220000
DTSTAMP:20260421T012842
CREATED:20190829T185131Z
LAST-MODIFIED:20190829T185131Z
UID:10006828-1779393600-1779400800@www.youarehillside.com
SUMMARY:Men's Ball Hockey
DESCRIPTION:If you’re looking for a great work out and fellowship\, check out our men’s ball hockey night. This event is hosted by Hillside and is open to the community. \nPlease note that proof of COVID-19 vaccine is required to participate in this event and PHO for COVID will be followed. \n 
URL:https://www.youarehillside.com/event/mens-ball-hockey/2026-05-21/
END:VEVENT
BEGIN:VEVENT
DTSTART;TZID=America/Vancouver:20260521T200000
DTEND;TZID=America/Vancouver:20260521T220000
DTSTAMP:20260421T012842
CREATED:20190829T185131Z
LAST-MODIFIED:20190829T185131Z
UID:10010363-1779393600-1779400800@www.youarehillside.com
SUMMARY:Men's Ball Hockey
DESCRIPTION:If you’re looking for a great work out and fellowship\, check out our men’s ball hockey night. This event is hosted by Hillside and is open to the community. \nPlease note that proof of COVID-19 vaccine is required to participate in this event and PHO for COVID will be followed. \n 
URL:https://www.youarehillside.com/event/mens-ball-hockey/2026-05-21/
END:VEVENT
BEGIN:VEVENT
DTSTART;TZID=America/Vancouver:20260521T200000
DTEND;TZID=America/Vancouver:20260521T220000
DTSTAMP:20260421T012842
CREATED:20190829T185131Z
LAST-MODIFIED:20190829T185131Z
UID:10014286-1779393600-1779400800@www.youarehillside.com
SUMMARY:Men's Ball Hockey
DESCRIPTION:If you’re looking for a great work out and fellowship\, check out our men’s ball hockey night. This event is hosted by Hillside and is open to the community. \nPlease note that proof of COVID-19 vaccine is required to participate in this event and PHO for COVID will be followed. \n 
URL:https://www.youarehillside.com/event/mens-ball-hockey/2026-05-21/
END:VEVENT
BEGIN:VEVENT
DTSTART;TZID=America/Vancouver:20260521T200000
DTEND;TZID=America/Vancouver:20260521T220000
DTSTAMP:20260421T012842
CREATED:20190829T185131Z
LAST-MODIFIED:20190829T185131Z
UID:10003559-1779393600-1779400800@www.youarehillside.com
SUMMARY:Men's Ball Hockey
DESCRIPTION:If you’re looking for a great work out and fellowship\, check out our men’s ball hockey night. This event is hosted by Hillside and is open to the community. \nPlease note that proof of COVID-19 vaccine is required to participate in this event and PHO for COVID will be followed. \n 
URL:https://www.youarehillside.com/event/mens-ball-hockey/2026-05-21/
END:VEVENT
BEGIN:VEVENT
DTSTART;TZID=America/Vancouver:20260521T200000
DTEND;TZID=America/Vancouver:20260521T220000
DTSTAMP:20260421T012842
CREATED:20190829T185131Z
LAST-MODIFIED:20190829T185131Z
UID:10004225-1779393600-1779400800@www.youarehillside.com
SUMMARY:Men's Ball Hockey
DESCRIPTION:If you’re looking for a great work out and fellowship\, check out our men’s ball hockey night. This event is hosted by Hillside and is open to the community. \nPlease note that proof of COVID-19 vaccine is required to participate in this event and PHO for COVID will be followed. \n 
URL:https://www.youarehillside.com/event/mens-ball-hockey/2026-05-21/
END:VEVENT
BEGIN:VEVENT
DTSTART;TZID=America/Vancouver:20260521T200000
DTEND;TZID=America/Vancouver:20260521T220000
DTSTAMP:20260421T012842
CREATED:20190829T185131Z
LAST-MODIFIED:20190829T185131Z
UID:10008248-1779393600-1779400800@www.youarehillside.com
SUMMARY:Men's Ball Hockey
DESCRIPTION:If you’re looking for a great work out and fellowship\, check out our men’s ball hockey night. This event is hosted by Hillside and is open to the community. \nPlease note that proof of COVID-19 vaccine is required to participate in this event and PHO for COVID will be followed. \n 
URL:https://www.youarehillside.com/event/mens-ball-hockey/2026-05-21/
END:VEVENT
BEGIN:VEVENT
DTSTART;TZID=America/Vancouver:20260521T200000
DTEND;TZID=America/Vancouver:20260521T220000
DTSTAMP:20260421T012842
CREATED:20190829T185131Z
LAST-MODIFIED:20190829T185131Z
UID:10004875-1779393600-1779400800@www.youarehillside.com
SUMMARY:Men's Ball Hockey
DESCRIPTION:If you’re looking for a great work out and fellowship\, check out our men’s ball hockey night. This event is hosted by Hillside and is open to the community. \nPlease note that proof of COVID-19 vaccine is required to participate in this event and PHO for COVID will be followed. \n 
URL:https://www.youarehillside.com/event/mens-ball-hockey/2026-05-21/
END:VEVENT
BEGIN:VEVENT
DTSTART;TZID=America/Vancouver:20260521T200000
DTEND;TZID=America/Vancouver:20260521T220000
DTSTAMP:20260421T012842
CREATED:20190829T185131Z
LAST-MODIFIED:20190829T185131Z
UID:10008953-1779393600-1779400800@www.youarehillside.com
SUMMARY:Men's Ball Hockey
DESCRIPTION:If you’re looking for a great work out and fellowship\, check out our men’s ball hockey night. This event is hosted by Hillside and is open to the community. \nPlease note that proof of COVID-19 vaccine is required to participate in this event and PHO for COVID will be followed. \n 
URL:https://www.youarehillside.com/event/mens-ball-hockey/2026-05-21/
END:VEVENT
BEGIN:VEVENT
DTSTART;TZID=America/Vancouver:20260521T200000
DTEND;TZID=America/Vancouver:20260521T220000
DTSTAMP:20260421T012842
CREATED:20190829T185131Z
LAST-MODIFIED:20190829T185131Z
UID:10012876-1779393600-1779400800@www.youarehillside.com
SUMMARY:Men's Ball Hockey
DESCRIPTION:If you’re looking for a great work out and fellowship\, check out our men’s ball hockey night. This event is hosted by Hillside and is open to the community. \nPlease note that proof of COVID-19 vaccine is required to participate in this event and PHO for COVID will be followed. \n 
URL:https://www.youarehillside.com/event/mens-ball-hockey/2026-05-21/
END:VEVENT
BEGIN:VEVENT
DTSTART;TZID=America/Vancouver:20260521T200000
DTEND;TZID=America/Vancouver:20260521T220000
DTSTAMP:20260421T012842
CREATED:20190829T185131Z
LAST-MODIFIED:20190829T185131Z
UID:10006467-1779393600-1779400800@www.youarehillside.com
SUMMARY:Men's Ball Hockey
DESCRIPTION:If you’re looking for a great work out and fellowship\, check out our men’s ball hockey night. This event is hosted by Hillside and is open to the community. \nPlease note that proof of COVID-19 vaccine is required to participate in this event and PHO for COVID will be followed. \n 
URL:https://www.youarehillside.com/event/mens-ball-hockey/2026-05-21/
END:VEVENT
BEGIN:VEVENT
DTSTART;TZID=America/Vancouver:20260521T200000
DTEND;TZID=America/Vancouver:20260521T220000
DTSTAMP:20260421T012842
CREATED:20190829T185131Z
LAST-MODIFIED:20190829T185131Z
UID:10013189-1779393600-1779400800@www.youarehillside.com
SUMMARY:Men's Ball Hockey
DESCRIPTION:If you’re looking for a great work out and fellowship\, check out our men’s ball hockey night. This event is hosted by Hillside and is open to the community. \nPlease note that proof of COVID-19 vaccine is required to participate in this event and PHO for COVID will be followed. \n 
URL:https://www.youarehillside.com/event/mens-ball-hockey/2026-05-21/
END:VEVENT
BEGIN:VEVENT
DTSTART;TZID=America/Vancouver:20260521T200000
DTEND;TZID=America/Vancouver:20260521T220000
DTSTAMP:20260421T012842
CREATED:20190829T185131Z
LAST-MODIFIED:20190829T185131Z
UID:10013581-1779393600-1779400800@www.youarehillside.com
SUMMARY:Men's Ball Hockey
DESCRIPTION:If you’re looking for a great work out and fellowship\, check out our men’s ball hockey night. This event is hosted by Hillside and is open to the community. \nPlease note that proof of COVID-19 vaccine is required to participate in this event and PHO for COVID will be followed. \n 
URL:https://www.youarehillside.com/event/mens-ball-hockey/2026-05-21/
END:VEVENT
BEGIN:VEVENT
DTSTART;TZID=America/Vancouver:20260521T200000
DTEND;TZID=America/Vancouver:20260521T220000
DTSTAMP:20260421T012842
CREATED:20190829T185131Z
LAST-MODIFIED:20190829T185131Z
UID:10015305-1779393600-1779400800@www.youarehillside.com
SUMMARY:Men's Ball Hockey
DESCRIPTION:If you’re looking for a great work out and fellowship\, check out our men’s ball hockey night. This event is hosted by Hillside and is open to the community. \nPlease note that proof of COVID-19 vaccine is required to participate in this event and PHO for COVID will be followed. \n 
URL:https://www.youarehillside.com/event/mens-ball-hockey/2026-05-21/
END:VEVENT
BEGIN:VEVENT
DTSTART;TZID=America/Vancouver:20260521T200000
DTEND;TZID=America/Vancouver:20260521T220000
DTSTAMP:20260421T012842
CREATED:20190829T185131Z
LAST-MODIFIED:20190829T185131Z
UID:10004060-1779393600-1779400800@www.youarehillside.com
SUMMARY:Men's Ball Hockey
DESCRIPTION:If you’re looking for a great work out and fellowship\, check out our men’s ball hockey night. This event is hosted by Hillside and is open to the community. \nPlease note that proof of COVID-19 vaccine is required to participate in this event and PHO for COVID will be followed. \n 
URL:https://www.youarehillside.com/event/mens-ball-hockey/2026-05-21/
END:VEVENT
BEGIN:VEVENT
DTSTART;TZID=America/Vancouver:20260521T200000
DTEND;TZID=America/Vancouver:20260521T220000
DTSTAMP:20260421T012842
CREATED:20190829T185131Z
LAST-MODIFIED:20190829T185131Z
UID:10011777-1779393600-1779400800@www.youarehillside.com
SUMMARY:Men's Ball Hockey
DESCRIPTION:If you’re looking for a great work out and fellowship\, check out our men’s ball hockey night. This event is hosted by Hillside and is open to the community. \nPlease note that proof of COVID-19 vaccine is required to participate in this event and PHO for COVID will be followed. \n 
URL:https://www.youarehillside.com/event/mens-ball-hockey/2026-05-21/
END:VEVENT
BEGIN:VEVENT
DTSTART;TZID=America/Vancouver:20260521T200000
DTEND;TZID=America/Vancouver:20260521T220000
DTSTAMP:20260421T012842
CREATED:20190829T185131Z
LAST-MODIFIED:20190829T185131Z
UID:10004714-1779393600-1779400800@www.youarehillside.com
SUMMARY:Men's Ball Hockey
DESCRIPTION:If you’re looking for a great work out and fellowship\, check out our men’s ball hockey night. This event is hosted by Hillside and is open to the community. \nPlease note that proof of COVID-19 vaccine is required to participate in this event and PHO for COVID will be followed. \n 
URL:https://www.youarehillside.com/event/mens-ball-hockey/2026-05-21/
END:VEVENT
BEGIN:VEVENT
DTSTART;TZID=America/Vancouver:20260521T200000
DTEND;TZID=America/Vancouver:20260521T220000
DTSTAMP:20260421T012842
CREATED:20190829T185131Z
LAST-MODIFIED:20190829T185131Z
UID:10005352-1779393600-1779400800@www.youarehillside.com
SUMMARY:Men's Ball Hockey
DESCRIPTION:If you’re looking for a great work out and fellowship\, check out our men’s ball hockey night. This event is hosted by Hillside and is open to the community. \nPlease note that proof of COVID-19 vaccine is required to participate in this event and PHO for COVID will be followed. \n 
URL:https://www.youarehillside.com/event/mens-ball-hockey/2026-05-21/
END:VEVENT
BEGIN:VEVENT
DTSTART;TZID=America/Vancouver:20260521T200000
DTEND;TZID=America/Vancouver:20260521T220000
DTSTAMP:20260421T012842
CREATED:20190829T185131Z
LAST-MODIFIED:20190829T185131Z
UID:10003390-1779393600-1779400800@www.youarehillside.com
SUMMARY:Men's Ball Hockey
DESCRIPTION:If you’re looking for a great work out and fellowship\, check out our men’s ball hockey night. This event is hosted by Hillside and is open to the community. \nPlease note that proof of COVID-19 vaccine is required to participate in this event and PHO for COVID will be followed. \n 
URL:https://www.youarehillside.com/event/mens-ball-hockey/2026-05-21/
END:VEVENT
BEGIN:VEVENT
DTSTART;TZID=America/Vancouver:20260521T200000
DTEND;TZID=America/Vancouver:20260521T220000
DTSTAMP:20260421T012842
CREATED:20190829T185131Z
LAST-MODIFIED:20190829T185131Z
UID:10010755-1779393600-1779400800@www.youarehillside.com
SUMMARY:Men's Ball Hockey
DESCRIPTION:If you’re looking for a great work out and fellowship\, check out our men’s ball hockey night. This event is hosted by Hillside and is open to the community. \nPlease note that proof of COVID-19 vaccine is required to participate in this event and PHO for COVID will be followed. \n 
URL:https://www.youarehillside.com/event/mens-ball-hockey/2026-05-21/
END:VEVENT
BEGIN:VEVENT
DTSTART;TZID=America/Vancouver:20260521T200000
DTEND;TZID=America/Vancouver:20260521T220000
DTSTAMP:20260421T012842
CREATED:20190829T185131Z
LAST-MODIFIED:20190829T185131Z
UID:10014599-1779393600-1779400800@www.youarehillside.com
SUMMARY:Men's Ball Hockey
DESCRIPTION:If you’re looking for a great work out and fellowship\, check out our men’s ball hockey night. This event is hosted by Hillside and is open to the community. \nPlease note that proof of COVID-19 vaccine is required to participate in this event and PHO for COVID will be followed. \n 
URL:https://www.youarehillside.com/event/mens-ball-hockey/2026-05-21/
END:VEVENT
BEGIN:VEVENT
DTSTART;TZID=America/Vancouver:20260521T200000
DTEND;TZID=America/Vancouver:20260521T220000
DTSTAMP:20260421T012842
CREATED:20190829T185131Z
LAST-MODIFIED:20190829T185131Z
UID:10012484-1779393600-1779400800@www.youarehillside.com
SUMMARY:Men's Ball Hockey
DESCRIPTION:If you’re looking for a great work out and fellowship\, check out our men’s ball hockey night. This event is hosted by Hillside and is open to the community. \nPlease note that proof of COVID-19 vaccine is required to participate in this event and PHO for COVID will be followed. \n 
URL:https://www.youarehillside.com/event/mens-ball-hockey/2026-05-21/
END:VEVENT
BEGIN:VEVENT
DTSTART;TZID=America/Vancouver:20260521T200000
DTEND;TZID=America/Vancouver:20260521T220000
DTSTAMP:20260421T012842
CREATED:20190829T185131Z
LAST-MODIFIED:20190829T185131Z
UID:10008640-1779393600-1779400800@www.youarehillside.com
SUMMARY:Men's Ball Hockey
DESCRIPTION:If you’re looking for a great work out and fellowship\, check out our men’s ball hockey night. This event is hosted by Hillside and is open to the community. \nPlease note that proof of COVID-19 vaccine is required to participate in this event and PHO for COVID will be followed. \n 
URL:https://www.youarehillside.com/event/mens-ball-hockey/2026-05-21/
END:VEVENT
BEGIN:VEVENT
DTSTART;TZID=America/Vancouver:20260521T200000
DTEND;TZID=America/Vancouver:20260521T220000
DTSTAMP:20260421T012842
CREATED:20190829T185131Z
LAST-MODIFIED:20190829T185131Z
UID:10007230-1779393600-1779400800@www.youarehillside.com
SUMMARY:Men's Ball Hockey
DESCRIPTION:If you’re looking for a great work out and fellowship\, check out our men’s ball hockey night. This event is hosted by Hillside and is open to the community. \nPlease note that proof of COVID-19 vaccine is required to participate in this event and PHO for COVID will be followed. \n 
URL:https://www.youarehillside.com/event/mens-ball-hockey/2026-05-21/
END:VEVENT
BEGIN:VEVENT
DTSTART;TZID=America/Vancouver:20260521T200000
DTEND;TZID=America/Vancouver:20260521T220000
DTSTAMP:20260421T012842
CREATED:20190829T185131Z
LAST-MODIFIED:20190829T185131Z
UID:10003894-1779393600-1779400800@www.youarehillside.com
SUMMARY:Men's Ball Hockey
DESCRIPTION:If you’re looking for a great work out and fellowship\, check out our men’s ball hockey night. This event is hosted by Hillside and is open to the community. \nPlease note that proof of COVID-19 vaccine is required to participate in this event and PHO for COVID will be followed. \n 
URL:https://www.youarehillside.com/event/mens-ball-hockey/2026-05-21/
END:VEVENT
BEGIN:VEVENT
DTSTART;TZID=America/Vancouver:20260521T200000
DTEND;TZID=America/Vancouver:20260521T220000
DTSTAMP:20260421T012842
CREATED:20190829T185131Z
LAST-MODIFIED:20190829T185131Z
UID:10012171-1779393600-1779400800@www.youarehillside.com
SUMMARY:Men's Ball Hockey
DESCRIPTION:If you’re looking for a great work out and fellowship\, check out our men’s ball hockey night. This event is hosted by Hillside and is open to the community. \nPlease note that proof of COVID-19 vaccine is required to participate in this event and PHO for COVID will be followed. \n 
URL:https://www.youarehillside.com/event/mens-ball-hockey/2026-05-21/
END:VEVENT
BEGIN:VEVENT
DTSTART;TZID=America/Vancouver:20260521T200000
DTEND;TZID=America/Vancouver:20260521T220000
DTSTAMP:20260421T012842
CREATED:20190829T185131Z
LAST-MODIFIED:20190829T185131Z
UID:10004552-1779393600-1779400800@www.youarehillside.com
SUMMARY:Men's Ball Hockey
DESCRIPTION:If you’re looking for a great work out and fellowship\, check out our men’s ball hockey night. This event is hosted by Hillside and is open to the community. \nPlease note that proof of COVID-19 vaccine is required to participate in this event and PHO for COVID will be followed. \n 
URL:https://www.youarehillside.com/event/mens-ball-hockey/2026-05-21/
END:VEVENT
END:VCALENDAR