BEGIN:VCALENDAR
VERSION:2.0
PRODID:-//Hillside Christian Church - ECPv6.15.17.1//NONSGML v1.0//EN
CALSCALE:GREGORIAN
METHOD:PUBLISH
X-ORIGINAL-URL:https://www.youarehillside.com
X-WR-CALDESC:Events for Hillside Christian Church
REFRESH-INTERVAL;VALUE=DURATION:PT1H
X-Robots-Tag:noindex
X-PUBLISHED-TTL:PT1H
BEGIN:VTIMEZONE
TZID:America/Vancouver
BEGIN:DAYLIGHT
TZOFFSETFROM:-0800
TZOFFSETTO:-0700
TZNAME:PDT
DTSTART:20250309T100000
END:DAYLIGHT
BEGIN:STANDARD
TZOFFSETFROM:-0700
TZOFFSETTO:-0800
TZNAME:PST
DTSTART:20251102T090000
END:STANDARD
BEGIN:DAYLIGHT
TZOFFSETFROM:-0800
TZOFFSETTO:-0700
TZNAME:PDT
DTSTART:20260308T100000
END:DAYLIGHT
BEGIN:STANDARD
TZOFFSETFROM:-0700
TZOFFSETTO:-0800
TZNAME:PST
DTSTART:20261101T090000
END:STANDARD
BEGIN:DAYLIGHT
TZOFFSETFROM:-0800
TZOFFSETTO:-0700
TZNAME:PDT
DTSTART:20270314T100000
END:DAYLIGHT
BEGIN:STANDARD
TZOFFSETFROM:-0700
TZOFFSETTO:-0800
TZNAME:PST
DTSTART:20271107T090000
END:STANDARD
END:VTIMEZONE
BEGIN:VEVENT
DTSTART;TZID=America/Vancouver:20260402T200000
DTEND;TZID=America/Vancouver:20260402T220000
DTSTAMP:20260421T041546
CREATED:20190829T185131Z
LAST-MODIFIED:20190829T185131Z
UID:10004382-1775160000-1775167200@www.youarehillside.com
SUMMARY:Men's Ball Hockey
DESCRIPTION:If you’re looking for a great work out and fellowship\, check out our men’s ball hockey night. This event is hosted by Hillside and is open to the community. \nPlease note that proof of COVID-19 vaccine is required to participate in this event and PHO for COVID will be followed. \n 
URL:https://www.youarehillside.com/event/mens-ball-hockey/2026-04-02/
END:VEVENT
BEGIN:VEVENT
DTSTART;TZID=America/Vancouver:20260402T200000
DTEND;TZID=America/Vancouver:20260402T220000
DTSTAMP:20260421T041546
CREATED:20190829T185131Z
LAST-MODIFIED:20190829T185131Z
UID:10005028-1775160000-1775167200@www.youarehillside.com
SUMMARY:Men's Ball Hockey
DESCRIPTION:If you’re looking for a great work out and fellowship\, check out our men’s ball hockey night. This event is hosted by Hillside and is open to the community. \nPlease note that proof of COVID-19 vaccine is required to participate in this event and PHO for COVID will be followed. \n 
URL:https://www.youarehillside.com/event/mens-ball-hockey/2026-04-02/
END:VEVENT
BEGIN:VEVENT
DTSTART;TZID=America/Vancouver:20260402T200000
DTEND;TZID=America/Vancouver:20260402T220000
DTSTAMP:20260421T041546
CREATED:20190829T185131Z
LAST-MODIFIED:20190829T185131Z
UID:10006068-1775160000-1775167200@www.youarehillside.com
SUMMARY:Men's Ball Hockey
DESCRIPTION:If you’re looking for a great work out and fellowship\, check out our men’s ball hockey night. This event is hosted by Hillside and is open to the community. \nPlease note that proof of COVID-19 vaccine is required to participate in this event and PHO for COVID will be followed. \n 
URL:https://www.youarehillside.com/event/mens-ball-hockey/2026-04-02/
END:VEVENT
BEGIN:VEVENT
DTSTART;TZID=America/Vancouver:20260402T200000
DTEND;TZID=America/Vancouver:20260402T220000
DTSTAMP:20260421T041546
CREATED:20190829T185131Z
LAST-MODIFIED:20190829T185131Z
UID:10010043-1775160000-1775167200@www.youarehillside.com
SUMMARY:Men's Ball Hockey
DESCRIPTION:If you’re looking for a great work out and fellowship\, check out our men’s ball hockey night. This event is hosted by Hillside and is open to the community. \nPlease note that proof of COVID-19 vaccine is required to participate in this event and PHO for COVID will be followed. \n 
URL:https://www.youarehillside.com/event/mens-ball-hockey/2026-04-02/
END:VEVENT
BEGIN:VEVENT
DTSTART;TZID=America/Vancouver:20260402T200000
DTEND;TZID=America/Vancouver:20260402T220000
DTSTAMP:20260421T041546
CREATED:20190829T185131Z
LAST-MODIFIED:20190829T185131Z
UID:10010356-1775160000-1775167200@www.youarehillside.com
SUMMARY:Men's Ball Hockey
DESCRIPTION:If you’re looking for a great work out and fellowship\, check out our men’s ball hockey night. This event is hosted by Hillside and is open to the community. \nPlease note that proof of COVID-19 vaccine is required to participate in this event and PHO for COVID will be followed. \n 
URL:https://www.youarehillside.com/event/mens-ball-hockey/2026-04-02/
END:VEVENT
BEGIN:VEVENT
DTSTART;TZID=America/Vancouver:20260402T200000
DTEND;TZID=America/Vancouver:20260402T220000
DTSTAMP:20260421T041546
CREATED:20190829T185131Z
LAST-MODIFIED:20190829T185131Z
UID:10010748-1775160000-1775167200@www.youarehillside.com
SUMMARY:Men's Ball Hockey
DESCRIPTION:If you’re looking for a great work out and fellowship\, check out our men’s ball hockey night. This event is hosted by Hillside and is open to the community. \nPlease note that proof of COVID-19 vaccine is required to participate in this event and PHO for COVID will be followed. \n 
URL:https://www.youarehillside.com/event/mens-ball-hockey/2026-04-02/
END:VEVENT
BEGIN:VEVENT
DTSTART;TZID=America/Vancouver:20260402T200000
DTEND;TZID=America/Vancouver:20260402T220000
DTSTAMP:20260421T041546
CREATED:20190829T185131Z
LAST-MODIFIED:20190829T185131Z
UID:10013182-1775160000-1775167200@www.youarehillside.com
SUMMARY:Men's Ball Hockey
DESCRIPTION:If you’re looking for a great work out and fellowship\, check out our men’s ball hockey night. This event is hosted by Hillside and is open to the community. \nPlease note that proof of COVID-19 vaccine is required to participate in this event and PHO for COVID will be followed. \n 
URL:https://www.youarehillside.com/event/mens-ball-hockey/2026-04-02/
END:VEVENT
BEGIN:VEVENT
DTSTART;TZID=America/Vancouver:20260402T200000
DTEND;TZID=America/Vancouver:20260402T220000
DTSTAMP:20260421T041546
CREATED:20190829T185131Z
LAST-MODIFIED:20190829T185131Z
UID:10003552-1775160000-1775167200@www.youarehillside.com
SUMMARY:Men's Ball Hockey
DESCRIPTION:If you’re looking for a great work out and fellowship\, check out our men’s ball hockey night. This event is hosted by Hillside and is open to the community. \nPlease note that proof of COVID-19 vaccine is required to participate in this event and PHO for COVID will be followed. \n 
URL:https://www.youarehillside.com/event/mens-ball-hockey/2026-04-02/
END:VEVENT
BEGIN:VEVENT
DTSTART;TZID=America/Vancouver:20260402T200000
DTEND;TZID=America/Vancouver:20260402T220000
DTSTAMP:20260421T041546
CREATED:20190829T185131Z
LAST-MODIFIED:20190829T185131Z
UID:10004218-1775160000-1775167200@www.youarehillside.com
SUMMARY:Men's Ball Hockey
DESCRIPTION:If you’re looking for a great work out and fellowship\, check out our men’s ball hockey night. This event is hosted by Hillside and is open to the community. \nPlease note that proof of COVID-19 vaccine is required to participate in this event and PHO for COVID will be followed. \n 
URL:https://www.youarehillside.com/event/mens-ball-hockey/2026-04-02/
END:VEVENT
BEGIN:VEVENT
DTSTART;TZID=America/Vancouver:20260402T200000
DTEND;TZID=America/Vancouver:20260402T220000
DTSTAMP:20260421T041546
CREATED:20190829T185131Z
LAST-MODIFIED:20190829T185131Z
UID:10004868-1775160000-1775167200@www.youarehillside.com
SUMMARY:Men's Ball Hockey
DESCRIPTION:If you’re looking for a great work out and fellowship\, check out our men’s ball hockey night. This event is hosted by Hillside and is open to the community. \nPlease note that proof of COVID-19 vaccine is required to participate in this event and PHO for COVID will be followed. \n 
URL:https://www.youarehillside.com/event/mens-ball-hockey/2026-04-02/
END:VEVENT
BEGIN:VEVENT
DTSTART;TZID=America/Vancouver:20260402T200000
DTEND;TZID=America/Vancouver:20260402T220000
DTSTAMP:20260421T041546
CREATED:20190829T185131Z
LAST-MODIFIED:20190829T185131Z
UID:10012477-1775160000-1775167200@www.youarehillside.com
SUMMARY:Men's Ball Hockey
DESCRIPTION:If you’re looking for a great work out and fellowship\, check out our men’s ball hockey night. This event is hosted by Hillside and is open to the community. \nPlease note that proof of COVID-19 vaccine is required to participate in this event and PHO for COVID will be followed. \n 
URL:https://www.youarehillside.com/event/mens-ball-hockey/2026-04-02/
END:VEVENT
BEGIN:VEVENT
DTSTART;TZID=America/Vancouver:20260402T200000
DTEND;TZID=America/Vancouver:20260402T220000
DTSTAMP:20260421T041546
CREATED:20190829T185131Z
LAST-MODIFIED:20190829T185131Z
UID:10008946-1775160000-1775167200@www.youarehillside.com
SUMMARY:Men's Ball Hockey
DESCRIPTION:If you’re looking for a great work out and fellowship\, check out our men’s ball hockey night. This event is hosted by Hillside and is open to the community. \nPlease note that proof of COVID-19 vaccine is required to participate in this event and PHO for COVID will be followed. \n 
URL:https://www.youarehillside.com/event/mens-ball-hockey/2026-04-02/
END:VEVENT
BEGIN:VEVENT
DTSTART;TZID=America/Vancouver:20260402T200000
DTEND;TZID=America/Vancouver:20260402T220000
DTSTAMP:20260421T041546
CREATED:20190829T185131Z
LAST-MODIFIED:20190829T185131Z
UID:10007928-1775160000-1775167200@www.youarehillside.com
SUMMARY:Men's Ball Hockey
DESCRIPTION:If you’re looking for a great work out and fellowship\, check out our men’s ball hockey night. This event is hosted by Hillside and is open to the community. \nPlease note that proof of COVID-19 vaccine is required to participate in this event and PHO for COVID will be followed. \n 
URL:https://www.youarehillside.com/event/mens-ball-hockey/2026-04-02/
END:VEVENT
BEGIN:VEVENT
DTSTART;TZID=America/Vancouver:20260402T200000
DTEND;TZID=America/Vancouver:20260402T220000
DTSTAMP:20260421T041546
CREATED:20190829T185131Z
LAST-MODIFIED:20190829T185131Z
UID:10011770-1775160000-1775167200@www.youarehillside.com
SUMMARY:Men's Ball Hockey
DESCRIPTION:If you’re looking for a great work out and fellowship\, check out our men’s ball hockey night. This event is hosted by Hillside and is open to the community. \nPlease note that proof of COVID-19 vaccine is required to participate in this event and PHO for COVID will be followed. \n 
URL:https://www.youarehillside.com/event/mens-ball-hockey/2026-04-02/
END:VEVENT
BEGIN:VEVENT
DTSTART;TZID=America/Vancouver:20260402T200000
DTEND;TZID=America/Vancouver:20260402T220000
DTSTAMP:20260421T041546
CREATED:20190829T185131Z
LAST-MODIFIED:20190829T185131Z
UID:10009651-1775160000-1775167200@www.youarehillside.com
SUMMARY:Men's Ball Hockey
DESCRIPTION:If you’re looking for a great work out and fellowship\, check out our men’s ball hockey night. This event is hosted by Hillside and is open to the community. \nPlease note that proof of COVID-19 vaccine is required to participate in this event and PHO for COVID will be followed. \n 
URL:https://www.youarehillside.com/event/mens-ball-hockey/2026-04-02/
END:VEVENT
BEGIN:VEVENT
DTSTART;TZID=America/Vancouver:20260402T200000
DTEND;TZID=America/Vancouver:20260402T220000
DTSTAMP:20260421T041546
CREATED:20190829T185131Z
LAST-MODIFIED:20190829T185131Z
UID:10003383-1775160000-1775167200@www.youarehillside.com
SUMMARY:Men's Ball Hockey
DESCRIPTION:If you’re looking for a great work out and fellowship\, check out our men’s ball hockey night. This event is hosted by Hillside and is open to the community. \nPlease note that proof of COVID-19 vaccine is required to participate in this event and PHO for COVID will be followed. \n 
URL:https://www.youarehillside.com/event/mens-ball-hockey/2026-04-02/
END:VEVENT
BEGIN:VEVENT
DTSTART;TZID=America/Vancouver:20260402T200000
DTEND;TZID=America/Vancouver:20260402T220000
DTSTAMP:20260421T041546
CREATED:20190829T185131Z
LAST-MODIFIED:20190829T185131Z
UID:10011061-1775160000-1775167200@www.youarehillside.com
SUMMARY:Men's Ball Hockey
DESCRIPTION:If you’re looking for a great work out and fellowship\, check out our men’s ball hockey night. This event is hosted by Hillside and is open to the community. \nPlease note that proof of COVID-19 vaccine is required to participate in this event and PHO for COVID will be followed. \n 
URL:https://www.youarehillside.com/event/mens-ball-hockey/2026-04-02/
END:VEVENT
BEGIN:VEVENT
DTSTART;TZID=America/Vancouver:20260402T200000
DTEND;TZID=America/Vancouver:20260402T220000
DTSTAMP:20260421T041546
CREATED:20190829T185131Z
LAST-MODIFIED:20190829T185131Z
UID:10004053-1775160000-1775167200@www.youarehillside.com
SUMMARY:Men's Ball Hockey
DESCRIPTION:If you’re looking for a great work out and fellowship\, check out our men’s ball hockey night. This event is hosted by Hillside and is open to the community. \nPlease note that proof of COVID-19 vaccine is required to participate in this event and PHO for COVID will be followed. \n 
URL:https://www.youarehillside.com/event/mens-ball-hockey/2026-04-02/
END:VEVENT
BEGIN:VEVENT
DTSTART;TZID=America/Vancouver:20260402T200000
DTEND;TZID=America/Vancouver:20260402T220000
DTSTAMP:20260421T041546
CREATED:20190829T185131Z
LAST-MODIFIED:20190829T185131Z
UID:10004707-1775160000-1775167200@www.youarehillside.com
SUMMARY:Men's Ball Hockey
DESCRIPTION:If you’re looking for a great work out and fellowship\, check out our men’s ball hockey night. This event is hosted by Hillside and is open to the community. \nPlease note that proof of COVID-19 vaccine is required to participate in this event and PHO for COVID will be followed. \n 
URL:https://www.youarehillside.com/event/mens-ball-hockey/2026-04-02/
END:VEVENT
BEGIN:VEVENT
DTSTART;TZID=America/Vancouver:20260402T200000
DTEND;TZID=America/Vancouver:20260402T220000
DTSTAMP:20260421T041546
CREATED:20190829T185131Z
LAST-MODIFIED:20190829T185131Z
UID:10009338-1775160000-1775167200@www.youarehillside.com
SUMMARY:Men's Ball Hockey
DESCRIPTION:If you’re looking for a great work out and fellowship\, check out our men’s ball hockey night. This event is hosted by Hillside and is open to the community. \nPlease note that proof of COVID-19 vaccine is required to participate in this event and PHO for COVID will be followed. \n 
URL:https://www.youarehillside.com/event/mens-ball-hockey/2026-04-02/
END:VEVENT
BEGIN:VEVENT
DTSTART;TZID=America/Vancouver:20260402T200000
DTEND;TZID=America/Vancouver:20260402T220000
DTSTAMP:20260421T041546
CREATED:20190829T185131Z
LAST-MODIFIED:20190829T185131Z
UID:10005345-1775160000-1775167200@www.youarehillside.com
SUMMARY:Men's Ball Hockey
DESCRIPTION:If you’re looking for a great work out and fellowship\, check out our men’s ball hockey night. This event is hosted by Hillside and is open to the community. \nPlease note that proof of COVID-19 vaccine is required to participate in this event and PHO for COVID will be followed. \n 
URL:https://www.youarehillside.com/event/mens-ball-hockey/2026-04-02/
END:VEVENT
BEGIN:VEVENT
DTSTART;TZID=America/Vancouver:20260402T200000
DTEND;TZID=America/Vancouver:20260402T220000
DTSTAMP:20260421T041546
CREATED:20190829T185131Z
LAST-MODIFIED:20190829T185131Z
UID:10006821-1775160000-1775167200@www.youarehillside.com
SUMMARY:Men's Ball Hockey
DESCRIPTION:If you’re looking for a great work out and fellowship\, check out our men’s ball hockey night. This event is hosted by Hillside and is open to the community. \nPlease note that proof of COVID-19 vaccine is required to participate in this event and PHO for COVID will be followed. \n 
URL:https://www.youarehillside.com/event/mens-ball-hockey/2026-04-02/
END:VEVENT
BEGIN:VEVENT
DTSTART;TZID=America/Vancouver:20260402T200000
DTEND;TZID=America/Vancouver:20260402T220000
DTSTAMP:20260421T041546
CREATED:20190829T185131Z
LAST-MODIFIED:20190829T185131Z
UID:10008633-1775160000-1775167200@www.youarehillside.com
SUMMARY:Men's Ball Hockey
DESCRIPTION:If you’re looking for a great work out and fellowship\, check out our men’s ball hockey night. This event is hosted by Hillside and is open to the community. \nPlease note that proof of COVID-19 vaccine is required to participate in this event and PHO for COVID will be followed. \n 
URL:https://www.youarehillside.com/event/mens-ball-hockey/2026-04-02/
END:VEVENT
BEGIN:VEVENT
DTSTART;TZID=America/Vancouver:20260402T200000
DTEND;TZID=America/Vancouver:20260402T220000
DTSTAMP:20260421T041546
CREATED:20190829T185131Z
LAST-MODIFIED:20190829T185131Z
UID:10012869-1775160000-1775167200@www.youarehillside.com
SUMMARY:Men's Ball Hockey
DESCRIPTION:If you’re looking for a great work out and fellowship\, check out our men’s ball hockey night. This event is hosted by Hillside and is open to the community. \nPlease note that proof of COVID-19 vaccine is required to participate in this event and PHO for COVID will be followed. \n 
URL:https://www.youarehillside.com/event/mens-ball-hockey/2026-04-02/
END:VEVENT
BEGIN:VEVENT
DTSTART;TZID=America/Vancouver:20260402T200000
DTEND;TZID=America/Vancouver:20260402T220000
DTSTAMP:20260421T041546
CREATED:20190829T185131Z
LAST-MODIFIED:20190829T185131Z
UID:10006460-1775160000-1775167200@www.youarehillside.com
SUMMARY:Men's Ball Hockey
DESCRIPTION:If you’re looking for a great work out and fellowship\, check out our men’s ball hockey night. This event is hosted by Hillside and is open to the community. \nPlease note that proof of COVID-19 vaccine is required to participate in this event and PHO for COVID will be followed. \n 
URL:https://www.youarehillside.com/event/mens-ball-hockey/2026-04-02/
END:VEVENT
BEGIN:VEVENT
DTSTART;TZID=America/Vancouver:20260402T200000
DTEND;TZID=America/Vancouver:20260402T220000
DTSTAMP:20260421T041546
CREATED:20190829T185131Z
LAST-MODIFIED:20190829T185131Z
UID:10003887-1775160000-1775167200@www.youarehillside.com
SUMMARY:Men's Ball Hockey
DESCRIPTION:If you’re looking for a great work out and fellowship\, check out our men’s ball hockey night. This event is hosted by Hillside and is open to the community. \nPlease note that proof of COVID-19 vaccine is required to participate in this event and PHO for COVID will be followed. \n 
URL:https://www.youarehillside.com/event/mens-ball-hockey/2026-04-02/
END:VEVENT
BEGIN:VEVENT
DTSTART;TZID=America/Vancouver:20260402T200000
DTEND;TZID=America/Vancouver:20260402T220000
DTSTAMP:20260421T041546
CREATED:20190829T185131Z
LAST-MODIFIED:20190829T185131Z
UID:10007223-1775160000-1775167200@www.youarehillside.com
SUMMARY:Men's Ball Hockey
DESCRIPTION:If you’re looking for a great work out and fellowship\, check out our men’s ball hockey night. This event is hosted by Hillside and is open to the community. \nPlease note that proof of COVID-19 vaccine is required to participate in this event and PHO for COVID will be followed. \n 
URL:https://www.youarehillside.com/event/mens-ball-hockey/2026-04-02/
END:VEVENT
BEGIN:VEVENT
DTSTART;TZID=America/Vancouver:20260402T200000
DTEND;TZID=America/Vancouver:20260402T220000
DTSTAMP:20260421T041546
CREATED:20190829T185131Z
LAST-MODIFIED:20190829T185131Z
UID:10004545-1775160000-1775167200@www.youarehillside.com
SUMMARY:Men's Ball Hockey
DESCRIPTION:If you’re looking for a great work out and fellowship\, check out our men’s ball hockey night. This event is hosted by Hillside and is open to the community. \nPlease note that proof of COVID-19 vaccine is required to participate in this event and PHO for COVID will be followed. \n 
URL:https://www.youarehillside.com/event/mens-ball-hockey/2026-04-02/
END:VEVENT
BEGIN:VEVENT
DTSTART;TZID=America/Vancouver:20260402T200000
DTEND;TZID=America/Vancouver:20260402T220000
DTSTAMP:20260421T041546
CREATED:20190829T185131Z
LAST-MODIFIED:20190829T185131Z
UID:10008241-1775160000-1775167200@www.youarehillside.com
SUMMARY:Men's Ball Hockey
DESCRIPTION:If you’re looking for a great work out and fellowship\, check out our men’s ball hockey night. This event is hosted by Hillside and is open to the community. \nPlease note that proof of COVID-19 vaccine is required to participate in this event and PHO for COVID will be followed. \n 
URL:https://www.youarehillside.com/event/mens-ball-hockey/2026-04-02/
END:VEVENT
BEGIN:VEVENT
DTSTART;TZID=America/Vancouver:20260402T200000
DTEND;TZID=America/Vancouver:20260402T220000
DTSTAMP:20260421T041546
CREATED:20190829T185131Z
LAST-MODIFIED:20190829T185131Z
UID:10012164-1775160000-1775167200@www.youarehillside.com
SUMMARY:Men's Ball Hockey
DESCRIPTION:If you’re looking for a great work out and fellowship\, check out our men’s ball hockey night. This event is hosted by Hillside and is open to the community. \nPlease note that proof of COVID-19 vaccine is required to participate in this event and PHO for COVID will be followed. \n 
URL:https://www.youarehillside.com/event/mens-ball-hockey/2026-04-02/
END:VEVENT
END:VCALENDAR